BEGIN:VCALENDAR
VERSION:2.0
PRODID:-//Skiclub - ECPv5.14.1//NONSGML v1.0//EN
CALSCALE:GREGORIAN
METHOD:PUBLISH
X-WR-CALNAME:Skiclub
X-ORIGINAL-URL:https://blog.skiclub-bonndorf.de
X-WR-CALDESC:Veranstaltungen für Skiclub
REFRESH-INTERVAL;VALUE=DURATION:PT1H
X-Robots-Tag:noindex
X-PUBLISHED-TTL:PT1H
BEGIN:VTIMEZONE
TZID:UTC
BEGIN:STANDARD
TZOFFSETFROM:+0000
TZOFFSETTO:+0000
TZNAME:UTC
DTSTART:20240101T000000
END:STANDARD
END:VTIMEZONE
BEGIN:VEVENT
DTSTART;TZID=UTC:20240127T093000
DTEND;TZID=UTC:20240128T150000
DTSTAMP:20260423T041731
CREATED:20231101T124400Z
LAST-MODIFIED:20240103T173718Z
UID:940-1706347800-1706454000@blog.skiclub-bonndorf.de
SUMMARY:Skikurse Alpin / Snowboard / Nordisch 27./28.01.2024
DESCRIPTION:Klickt einfach den gewünschten Kurs an … und los geht´s!
URL:https://blog.skiclub-bonndorf.de/event/skikurs-2022-23-27-12-29-12-22
END:VEVENT
END:VCALENDAR