BEGIN:VCALENDAR
VERSION:2.0
PRODID:-//Skiclub - ECPv5.14.1//NONSGML v1.0//EN
CALSCALE:GREGORIAN
METHOD:PUBLISH
X-WR-CALNAME:Skiclub
X-ORIGINAL-URL:https://blog.skiclub-bonndorf.de
X-WR-CALDESC:Veranstaltungen für Skiclub
REFRESH-INTERVAL;VALUE=DURATION:PT1H
X-Robots-Tag:noindex
X-PUBLISHED-TTL:PT1H
BEGIN:VTIMEZONE
TZID:UTC
BEGIN:STANDARD
TZOFFSETFROM:+0000
TZOFFSETTO:+0000
TZNAME:UTC
DTSTART:20230101T000000
END:STANDARD
END:VTIMEZONE
BEGIN:VEVENT
DTSTART;TZID=UTC:20230204T090000
DTEND;TZID=UTC:20230205T120000
DTSTAMP:20260425T190550
CREATED:20221201T122853Z
LAST-MODIFIED:20230203T075407Z
UID:886-1675501200-1675598400@blog.skiclub-bonndorf.de
SUMMARY:Abgesagt: Stadt- und Vereinsmeisterschaften (Alpin/Nordisch) 04./05.02.2023
DESCRIPTION:Fischbach (Ausweichort: Waldau) / Dresselbachje nach Schneelage
URL:https://blog.skiclub-bonndorf.de/event/28-29-01-2023-alpin-nordisch
END:VEVENT
BEGIN:VEVENT
DTSTART;TZID=UTC:20230225T050000
DTEND;TZID=UTC:20230225T170000
DTSTAMP:20260425T190550
CREATED:20221125T223243Z
LAST-MODIFIED:20221201T124519Z
UID:889-1677301200-1677344400@blog.skiclub-bonndorf.de
SUMMARY:Familienausfahrt Mellau/Damüls 25.02.2023
DESCRIPTION:25.02.2023 Familienausfahrt Mellau/Damüls  \n\n\n\nDie genaue Abfahrtszeit wird noch bekanntgegeben.
URL:https://blog.skiclub-bonndorf.de/event/25-02-2023-familienausfahrt-mellau-damuels
END:VEVENT
END:VCALENDAR