BEGIN:VCALENDAR
VERSION:2.0
PRODID:-//Skiclub - ECPv5.14.1//NONSGML v1.0//EN
CALSCALE:GREGORIAN
METHOD:PUBLISH
X-WR-CALNAME:Skiclub
X-ORIGINAL-URL:https://blog.skiclub-bonndorf.de
X-WR-CALDESC:Veranstaltungen für Skiclub
REFRESH-INTERVAL;VALUE=DURATION:PT1H
X-Robots-Tag:noindex
X-PUBLISHED-TTL:PT1H
BEGIN:VTIMEZONE
TZID:UTC
BEGIN:STANDARD
TZOFFSETFROM:+0000
TZOFFSETTO:+0000
TZNAME:UTC
DTSTART:20220101T000000
END:STANDARD
END:VTIMEZONE
BEGIN:VEVENT
DTSTART;TZID=UTC:20220930T170000
DTEND;TZID=UTC:20220930T173000
DTSTAMP:20260426T021933
CREATED:20220928T150531Z
LAST-MODIFIED:20220928T150722Z
UID:858-1664557200-1664559000@blog.skiclub-bonndorf.de
SUMMARY:FLOW TRAIL Spatenstich
DESCRIPTION:Freitag den 30.09.2022 Bikepark Bonndorf
URL:https://blog.skiclub-bonndorf.de/event/flow-trail-spatenstich
ATTACH;FMTTYPE=image/jpeg:https://blog.skiclub-bonndorf.de/wp-content/uploads/2022/02/Startschuss-für-den-Trail_2-002-e1645386276715.jpg
END:VEVENT
END:VCALENDAR