BEGIN:VCALENDAR
VERSION:2.0
PRODID:-//Skiclub - ECPv5.14.1//NONSGML v1.0//EN
CALSCALE:GREGORIAN
METHOD:PUBLISH
X-WR-CALNAME:Skiclub
X-ORIGINAL-URL:https://blog.skiclub-bonndorf.de
X-WR-CALDESC:Veranstaltungen für Skiclub
REFRESH-INTERVAL;VALUE=DURATION:PT1H
X-Robots-Tag:noindex
X-PUBLISHED-TTL:PT1H
BEGIN:VTIMEZONE
TZID:Europe/Berlin
BEGIN:DAYLIGHT
TZOFFSETFROM:+0100
TZOFFSETTO:+0200
TZNAME:CEST
DTSTART:20240331T010000
END:DAYLIGHT
BEGIN:STANDARD
TZOFFSETFROM:+0200
TZOFFSETTO:+0100
TZNAME:CET
DTSTART:20241027T010000
END:STANDARD
END:VTIMEZONE
BEGIN:VEVENT
DTSTART;TZID=Europe/Berlin:20240503T200000
DTEND;TZID=Europe/Berlin:20240503T230000
DTSTAMP:20260422T231102
CREATED:20231101T122900Z
LAST-MODIFIED:20231101T174214Z
UID:893-1714766400-1714777200@blog.skiclub-bonndorf.de
SUMMARY:Generalversammlung: 03.05.2024
DESCRIPTION:Generalversammlung: 03. Mai 2024 im Gasthaus Kranz in Bonndorf
URL:https://blog.skiclub-bonndorf.de/event/generalversammlung-05-mai-2023
ATTACH;FMTTYPE=image/jpeg:https://blog.skiclub-bonndorf.de/wp-content/uploads/2023/02/2023-Skikurs-Bild_Beitrag-scaled-e1675502021267.jpg
END:VEVENT
END:VCALENDAR