BEGIN:VCALENDAR
VERSION:2.0
PRODID:-//Skiclub - ECPv5.14.1//NONSGML v1.0//EN
CALSCALE:GREGORIAN
METHOD:PUBLISH
X-WR-CALNAME:Skiclub
X-ORIGINAL-URL:https://blog.skiclub-bonndorf.de
X-WR-CALDESC:Veranstaltungen für Skiclub
REFRESH-INTERVAL;VALUE=DURATION:PT1H
X-Robots-Tag:noindex
X-PUBLISHED-TTL:PT1H
BEGIN:VTIMEZONE
TZID:UTC
BEGIN:STANDARD
TZOFFSETFROM:+0000
TZOFFSETTO:+0000
TZNAME:UTC
DTSTART:20240101T000000
END:STANDARD
END:VTIMEZONE
BEGIN:VEVENT
DTSTART;TZID=UTC:20240302T000000
DTEND;TZID=UTC:20240302T235959
DTSTAMP:20260423T025032
CREATED:20231101T124800Z
LAST-MODIFIED:20231206T061923Z
UID:945-1709337600-1709423999@blog.skiclub-bonndorf.de
SUMMARY:Skiausfahrt Ischgl 02.03.2024 mit Aprés-Ski
DESCRIPTION:Skiausfahrt nach Ischgl mit Après-Ski \n\n\n\n\n\n\n\nFür Mitglieder gibt es einen Preisnachlass.
URL:https://blog.skiclub-bonndorf.de/event/skiausfahrt-ischgl-11-03-2023
ATTACH;FMTTYPE=image/jpeg:https://blog.skiclub-bonndorf.de/wp-content/uploads/2022/02/2021_Soelden_Gruppe-rahmen.jpg
END:VEVENT
END:VCALENDAR