BEGIN:VCALENDAR
VERSION:2.0
PRODID:-//Skiclub - ECPv5.14.1//NONSGML v1.0//EN
CALSCALE:GREGORIAN
METHOD:PUBLISH
X-WR-CALNAME:Skiclub
X-ORIGINAL-URL:https://blog.skiclub-bonndorf.de
X-WR-CALDESC:Veranstaltungen für Skiclub
REFRESH-INTERVAL;VALUE=DURATION:PT1H
X-Robots-Tag:noindex
X-PUBLISHED-TTL:PT1H
BEGIN:VTIMEZONE
TZID:UTC
BEGIN:STANDARD
TZOFFSETFROM:+0000
TZOFFSETTO:+0000
TZNAME:UTC
DTSTART:20240101T000000
END:STANDARD
END:VTIMEZONE
BEGIN:VEVENT
DTSTART;TZID=UTC:20240224T090000
DTEND;TZID=UTC:20240225T200000
DTSTAMP:20260423T055934
CREATED:20220218T111135Z
LAST-MODIFIED:20231101T172732Z
UID:569-1708765200-1708891200@blog.skiclub-bonndorf.de
SUMMARY:Stadt- und Vereinsmeisterschaften 2024 (Alpin/Nordisch) 24.02./25.02.2024
DESCRIPTION:Alpin und Nordisch
URL:https://blog.skiclub-bonndorf.de/event/stadt-und-vereinsmeisterschaften-2022
ATTACH;FMTTYPE=image/jpeg:https://blog.skiclub-bonndorf.de/wp-content/uploads/2022/02/IMG-20220202-WA0011-e1645131696164.jpg
END:VEVENT
END:VCALENDAR