BEGIN:VCALENDAR
VERSION:2.0
PRODID:-//Skiclub - ECPv5.14.1//NONSGML v1.0//EN
CALSCALE:GREGORIAN
METHOD:PUBLISH
X-WR-CALNAME:Skiclub
X-ORIGINAL-URL:https://blog.skiclub-bonndorf.de
X-WR-CALDESC:Veranstaltungen für Skiclub
REFRESH-INTERVAL;VALUE=DURATION:PT1H
X-Robots-Tag:noindex
X-PUBLISHED-TTL:PT1H
BEGIN:VTIMEZONE
TZID:Europe/Berlin
BEGIN:DAYLIGHT
TZOFFSETFROM:+0100
TZOFFSETTO:+0200
TZNAME:CEST
DTSTART:20230326T010000
END:DAYLIGHT
BEGIN:STANDARD
TZOFFSETFROM:+0200
TZOFFSETTO:+0100
TZNAME:CET
DTSTART:20231029T010000
END:STANDARD
END:VTIMEZONE
BEGIN:VEVENT
DTSTART;TZID=Europe/Berlin:20231116T180000
DTEND;TZID=Europe/Berlin:20231116T210000
DTSTAMP:20260423T091128
CREATED:20221201T123003Z
LAST-MODIFIED:20231101T173427Z
UID:874-1700157600-1700168400@blog.skiclub-bonndorf.de
SUMMARY:Wachs-Workshop 16.11.2023
DESCRIPTION:Liebe Mitglieder\, \n\n\n\nwir laden recht herzlich zum Wachs-Workshop am 16.11.2023  um 18:00 Uhr in der Halle: Gartenbau Woll ein.  \n\n\n\nGleich anmelden: \n\n\n\n\n\n\n\n\n\n\n\nMit sportlichen Grüßen \n\n\n\nEuer Skiclub Bonndorf
URL:https://blog.skiclub-bonndorf.de/event/wachsabend
ATTACH;FMTTYPE=image/jpeg:https://blog.skiclub-bonndorf.de/wp-content/uploads/2023/11/Wachsabend2023.jpg
END:VEVENT
END:VCALENDAR