BEGIN:VCALENDAR
VERSION:2.0
PRODID:-//Skiclub - ECPv5.14.1//NONSGML v1.0//EN
CALSCALE:GREGORIAN
METHOD:PUBLISH
X-WR-CALNAME:Skiclub
X-ORIGINAL-URL:https://blog.skiclub-bonndorf.de
X-WR-CALDESC:Veranstaltungen für Skiclub
REFRESH-INTERVAL;VALUE=DURATION:PT1H
X-Robots-Tag:noindex
X-PUBLISHED-TTL:PT1H
BEGIN:VTIMEZONE
TZID:UTC
BEGIN:STANDARD
TZOFFSETFROM:+0000
TZOFFSETTO:+0000
TZNAME:UTC
DTSTART:20230101T000000
END:STANDARD
END:VTIMEZONE
BEGIN:VEVENT
DTSTART;TZID=UTC:20231104T100000
DTEND;TZID=UTC:20231104T120000
DTSTAMP:20260423T091021
CREATED:20220928T145035Z
LAST-MODIFIED:20231101T173409Z
UID:854-1699092000-1699099200@blog.skiclub-bonndorf.de
SUMMARY:Brettlemarkt 04.11.2023
DESCRIPTION:Brettlemarkt am Samstag\, den 04.11.2023 in der Stadthalle Bonndorf
URL:https://blog.skiclub-bonndorf.de/event/brettlemarkt
ATTACH;FMTTYPE=image/png:https://blog.skiclub-bonndorf.de/wp-content/uploads/2022/09/2021_brettlemarkt.png
END:VEVENT
END:VCALENDAR