BEGIN:VCALENDAR
VERSION:2.0
PRODID:-//Skiclub - ECPv5.14.1//NONSGML v1.0//EN
CALSCALE:GREGORIAN
METHOD:PUBLISH
X-WR-CALNAME:Skiclub
X-ORIGINAL-URL:https://blog.skiclub-bonndorf.de
X-WR-CALDESC:Veranstaltungen für Skiclub
REFRESH-INTERVAL;VALUE=DURATION:PT1H
X-Robots-Tag:noindex
X-PUBLISHED-TTL:PT1H
BEGIN:VTIMEZONE
TZID:UTC
BEGIN:STANDARD
TZOFFSETFROM:+0000
TZOFFSETTO:+0000
TZNAME:UTC
DTSTART:20230101T000000
END:STANDARD
END:VTIMEZONE
BEGIN:VEVENT
DTSTART;TZID=UTC:20231029T120000
DTEND;TZID=UTC:20231102T220000
DTSTAMP:20260423T102053
CREATED:20231016T190939Z
LAST-MODIFIED:20231016T190941Z
UID:1214-1698580800-1698962400@blog.skiclub-bonndorf.de
SUMMARY:Trainingsfreizeit in Sölden vom 29.10.2023 - 01.11.2023 bzw. 02.11.2023
DESCRIPTION:
URL:https://blog.skiclub-bonndorf.de/event/trainingsfreizeit-in-soelden-vom-29-10-2023-01-11-2023-bzw-02-11-2023
END:VEVENT
END:VCALENDAR