BEGIN:VCALENDAR
VERSION:2.0
PRODID:-//Skiclub - ECPv5.14.1//NONSGML v1.0//EN
CALSCALE:GREGORIAN
METHOD:PUBLISH
X-WR-CALNAME:Skiclub
X-ORIGINAL-URL:https://blog.skiclub-bonndorf.de
X-WR-CALDESC:Veranstaltungen für Skiclub
REFRESH-INTERVAL;VALUE=DURATION:PT1H
X-Robots-Tag:noindex
X-PUBLISHED-TTL:PT1H
BEGIN:VTIMEZONE
TZID:UTC
BEGIN:STANDARD
TZOFFSETFROM:+0000
TZOFFSETTO:+0000
TZNAME:UTC
DTSTART:20230101T000000
END:STANDARD
END:VTIMEZONE
BEGIN:VEVENT
DTSTART;TZID=UTC:20230512T200000
DTEND;TZID=UTC:20230512T223000
DTSTAMP:20260425T155441
CREATED:20220327T215102Z
LAST-MODIFIED:20231101T173736Z
UID:772-1683921600-1683930600@blog.skiclub-bonndorf.de
SUMMARY:Generalversammlung 12.05.2023
DESCRIPTION:Liebe Mitglieder\, Freunde und Gönner\,  \n\n\n\nwir möchten euch recht herzlich zu unserer diesjährigen Generalversammlung \n\n\n\nam Freitag\, den 12.05.2023 um 20.00 Uhr im Gasthaus Kranz in Bonndorf einladen. \n\n\n\nTagesordnung: \n\n\n\nBegrüßung durch den VorsitzendenTotenehrungBericht des SchriftführersBerichte der Sportwarte Alpin/Nordisch/BikeKassenberichtBericht der KassenprüferEntlastung der KassiererinEhrungenVorschau Vereinsjahr 2023/2024Wünsche und Anträge\n\n\n\nWir freuen uns auf euer Kommen. \n\n\n\nDie VorstandschaftSkiclub Bonndorf e.V.
URL:https://blog.skiclub-bonndorf.de/event/generalversammlung
ATTACH;FMTTYPE=image/jpeg:https://blog.skiclub-bonndorf.de/wp-content/uploads/2023/02/2023-Skikurs-Bild_Beitrag-scaled-e1675502021267.jpg
END:VEVENT
END:VCALENDAR